﻿BEGIN:VCALENDAR
VERSION:2.0
PRODID:-//eventon.com NONSGML v1.0//EN
CALSCALE:GREGORIAN
METHOD:PUBLISH
BEGIN:VEVENT
UID:69eca94b27073
DTSTAMP:20260425T114515Z
DTSTART:20260829T082000Z
DTEND:20260829T082000Z
LOCATION:Frankfurt
SUMMARY:A.Pf.E.L. Anwender Pflege Experten Tag
DESCRIPTION:Weitere Informationen finden Sie hier\nhttps://www.fgskw.org/ve
 ranstaltungen/a-pf-e-l-anwender-pflege-experten-tag/
URL:https://www.fgskw.org/veranstaltungen/a-pf-e-l-anwender-pflege-experten-tag/
END:VEVENT
END:VCALENDAR