﻿BEGIN:VCALENDAR
VERSION:2.0
PRODID:-//eventon.com NONSGML v1.0//EN
CALSCALE:GREGORIAN
METHOD:PUBLISH
BEGIN:VEVENT
UID:69ed57a8bc6f9
DTSTAMP:20260426T000912Z
DTSTART:20260708T220000Z
DTEND:20260708T220000Z
LOCATION:Köln
SUMMARY:ICW Rezertifizierungsveranstaltung IV Besondere Wunden\,  besondere Herausforderungen
DESCRIPTION:Weitere Informationen finden Sie hier\nhttps://www.fgskw.org/ve
 ranstaltungen/icw-rezertifizierungsveranstaltung-iv-besondere-wunden-besond
 ere-herausforderungen/
URL:https://www.fgskw.org/veranstaltungen/icw-rezertifizierungsveranstaltung-iv-besondere-wunden-besondere-herausforderungen/
END:VEVENT
END:VCALENDAR