﻿BEGIN:VCALENDAR
VERSION:2.0
PRODID:-//eventon.com NONSGML v1.0//EN
CALSCALE:GREGORIAN
METHOD:PUBLISH
BEGIN:VEVENT
UID:69e89d599b98e
DTSTAMP:20260422T100513Z
DTSTART:20250312T230000Z
DTEND:20250312T230000Z
LOCATION:
SUMMARY:Vermeidung von Hautschäden durch optimale Versorgung.
DESCRIPTION:Weitere Informationen finden Sie hier\nhttps://www.fgskw.org/ve
 ranstaltungen/vermeidung-von-hautschaeden-durch-optimale-versorgung/
URL:https://www.fgskw.org/veranstaltungen/vermeidung-von-hautschaeden-durch-optimale-versorgung/
END:VEVENT
END:VCALENDAR