﻿BEGIN:VCALENDAR
VERSION:2.0
PRODID:-//eventon.com NONSGML v1.0//EN
CALSCALE:GREGORIAN
METHOD:PUBLISH
BEGIN:VEVENT
UID:69e72da410839
DTSTAMP:20260421T075620Z
DTSTART:20240918T070000Z
DTEND:20240919T150000Z
LOCATION:Hamburg
SUMMARY:Hamburger Wundtage 2.0
DESCRIPTION:Weitere Informationen finden Sie hier\nhttps://www.fgskw.org/ve
 ranstaltungen/hamburger-wundtage-2-0/
URL:https://www.fgskw.org/veranstaltungen/hamburger-wundtage-2-0/
END:VEVENT
END:VCALENDAR