﻿BEGIN:VCALENDAR
VERSION:2.0
PRODID:-//eventon.com NONSGML v1.0//EN
CALSCALE:GREGORIAN
METHOD:PUBLISH
BEGIN:VEVENT
UID:69eadf631eb9d
DTSTAMP:20260424T031131Z
DTSTART:20241021T220000Z
DTEND:20241021T220000Z
LOCATION:
SUMMARY:Behandlung\,  Wund- und Begleittherapien bei Akne Inversa.
DESCRIPTION:Weitere Informationen finden Sie hier\nhttps://www.fgskw.org/ve
 ranstaltungen/behandlung-wund-und-begleittherapien-bei-akne-inversa-2/
URL:https://www.fgskw.org/veranstaltungen/behandlung-wund-und-begleittherapien-bei-akne-inversa-2/
END:VEVENT
END:VCALENDAR